BEGIN:VCALENDAR
PRODID:-//eluceo/ical//2.0/EN
VERSION:2.0
CALSCALE:GREGORIAN
BEGIN:VEVENT
UID:735a8a8fdfc86822b8bc22355d515e1b
DTSTAMP:20260419T145019Z
SUMMARY:COIN – Mammakarzinom: Therapie lokalisierte Erkrankung
URL:https://radioonkologie.insel.ch/fr/aktuell/veranstaltungen/details/deta
 il/coin-mammakarzinom-therapie-lokalisierte-erkrankung
DTSTART;TZID=+01:00:20250311T171500
DTEND;TZID=+01:00:20250311T181500
LOCATION:Webinar per Zoom
END:VEVENT
END:VCALENDAR
